BEGIN:VCALENDAR
VERSION:2.0
PRODID:-//Iran Revival Hub - ECPv6.15.20//NONSGML v1.0//EN
CALSCALE:GREGORIAN
METHOD:PUBLISH
X-WR-CALNAME:Iran Revival Hub
X-ORIGINAL-URL:https://iranrh.org
X-WR-CALDESC:Events for Iran Revival Hub
REFRESH-INTERVAL;VALUE=DURATION:PT1H
X-Robots-Tag:noindex
X-PUBLISHED-TTL:PT1H
BEGIN:VTIMEZONE
TZID:America/Toronto
BEGIN:DAYLIGHT
TZOFFSETFROM:-0500
TZOFFSETTO:-0400
TZNAME:EDT
DTSTART:20250309T070000
END:DAYLIGHT
BEGIN:STANDARD
TZOFFSETFROM:-0400
TZOFFSETTO:-0500
TZNAME:EST
DTSTART:20251102T060000
END:STANDARD
BEGIN:DAYLIGHT
TZOFFSETFROM:-0500
TZOFFSETTO:-0400
TZNAME:EDT
DTSTART:20260308T070000
END:DAYLIGHT
BEGIN:STANDARD
TZOFFSETFROM:-0400
TZOFFSETTO:-0500
TZNAME:EST
DTSTART:20261101T060000
END:STANDARD
BEGIN:DAYLIGHT
TZOFFSETFROM:-0500
TZOFFSETTO:-0400
TZNAME:EDT
DTSTART:20270314T070000
END:DAYLIGHT
BEGIN:STANDARD
TZOFFSETFROM:-0400
TZOFFSETTO:-0500
TZNAME:EST
DTSTART:20271107T060000
END:STANDARD
END:VTIMEZONE
BEGIN:VEVENT
DTSTART;TZID=America/Toronto:20260311T153000
DTEND;TZID=America/Toronto:20260311T163000
DTSTAMP:20260421T170957
CREATED:20260307T001958Z
LAST-MODIFIED:20260307T002508Z
UID:92785-1773243000-1773246600@iranrh.org
SUMMARY:Hear the Voice of Iran
DESCRIPTION:
URL:https://iranrh.org/event/hear-the-voice-of-iran/
CATEGORIES:IRH Events
ATTACH;FMTTYPE=image/jpeg:https://iranrh.org/wp-content/uploads/2026/03/ottawa-11-march.jpg
END:VEVENT
END:VCALENDAR